BEGIN:VCALENDAR
VERSION:2.0
PRODID:-//ExpressionEngine Easy iCalendar plugin//NONSGML v2.0.1//EN
X-WR-TIMEZONE:America/New_York
X-WR-CALNAME:Upcoming Auctions
BEGIN:VEVENT
UID:99785
DTSTAMP:20230530T100000
DTSTART:20230530T100000
DTEND:20230530T110000
SUMMARY:Large Firearms and Memorabilia Auction
LOCATION:48 Progressive Parkway\, Angier\, NC 27501\, US
DESCRIPTION:This is a notice of a large auction including numerous Winch
 ester\, Remington\, L.C. Smith\, and other long guns. There wil
 l also be a large collection of Colts and other handguns. Th
 is will be a live /online /simulcast event at a location to 
 be determined. We will be posting the catalog\, photos\, and o
 ther information regarding this event in the near future. Th
 e majority of these items are coming from one collector that
  spans over 50 years of gathering only the finest. There wil
 l be numerous showcases\, Civil War Artifacts including sword
 s\, weapons\, and lots more. We have a large collection of fin
 e display cases and cabinets from Winchester and others. Thi
 s will be one to remember and if you are an avid collector o
 f only the best- this will be your chance.  All firearms \, 
 etc. will be held off site and we will be posting preview da
 tes and locations in the coming weeks. NO FIREARMS will be a
 t JP headquarters at any time so plan on attending the previ
 ews. Please keep checking this site for updates on times\, da
 tes\, etc. for preview periods. We will be selling via a cata
 log with photos only in our facility and pick up will be at 
 Lillington Gun and Ammo. **THIS WILL BE A CASH ONLY\, CERTIFI
 ED CHECK\, OR WIRE TRANSFER ($25 FEE ADDED) AUCTION. WE WILL 
 NOT ACCEPT CREDIT CARDS OR PERSONAL CHECKS. YOU MUST PAY AT 
 JOHNSON PROPERTIES PRIOR TO PICKING UP AT LILLINGTON GUNS & 
 AMMO** PICKUP DATE & TIME: TUESDAY MAY 30 FROM 1PM-5PM WEDNE
 SDAY MAY 31 FROM 10AM-5PM  
URL:https://www.johnsonproperties.com/auctions/detail/bw99785
SEQUENCE:1
END:VEVENT
END:VCALENDAR