BEGIN:VCALENDAR
VERSION:2.0
PRODID:-//ExpressionEngine Easy iCalendar plugin//NONSGML v2.0.1//EN
X-WR-TIMEZONE:America/New_York
X-WR-CALNAME:Upcoming Auctions
BEGIN:VEVENT
UID:99752
DTSTAMP:20231019T170000
DTSTART:20231019T170000
DTEND:20231019T180000
SUMMARY:Lot in downtown Angier Selling in a live / onsite / online s
 imulcast Auction!
LOCATION:286 N Willow St.\, Angier\, NC 27501\, US
DESCRIPTION:This is notice of an important upcoming auction for a super 
 nice building site in Angier.  It is close to Jack Marley P
 ark and the walking trail as well as just a 2 minute walk to
  downtown. With access to local restaurants and it being a s
 hort drive to Fuquay Varina or Raleigh\, this is in a great l
 ocation!  The lot is over 15\,500 sq ft.with nearly 94 feet 
 of frontage on Willow Street. Water and sewer are along Wil
 low Street and at the Intersection with Wimberly Road approx
 . 300 ft. to the North. Bring your own Builder or we will he
 lp you find one! The Auction Date is Set and you can bid liv
 e onsite or online on Thursday\, October 19th at 5:00 pm.  Y
 ou can preview the lot at your leisure or call JP if you hav
 e specific questions. JP Staff will be onsite Thursday Octob
 er 19th starting at 4:00pm.
URL:https://www.johnsonproperties.com/auctions/detail/bw99752
SEQUENCE:1
END:VEVENT
END:VCALENDAR