BEGIN:VCALENDAR
VERSION:2.0
PRODID:-//ExpressionEngine Easy iCalendar plugin//NONSGML v2.0.1//EN
X-WR-TIMEZONE:America/New_York
X-WR-CALNAME:Upcoming Auctions
BEGIN:VEVENT
UID:99528
DTSTAMP:20230505T093000
DTSTART:20230505T093000
DTEND:20230505T103000
SUMMARY:Angier Mini Storage Auction!
LOCATION:400 W. Depot Street\, Angier\, NC 27501\, US
DESCRIPTION:Bring your trucks and trailers so that you can load your tre
 asures from this auction! We have 7 Units with great items t
 o auction off! Auction to be conducted at Angier Mini Storag
 e - 400 W. Depot St. Angier\, NC 27501 @ 9:30 AM This is a CA
 SH only auction! Viewing the contents of units will take pla
 ce on the day of the auction only. All successful bidders sh
 all take possession of contents of the unit immediately.
URL:https://www.johnsonproperties.com/auctions/detail/bw99528
SEQUENCE:1
END:VEVENT
END:VCALENDAR