BEGIN:VCALENDAR
VERSION:2.0
PRODID:-//ExpressionEngine Easy iCalendar plugin//NONSGML v2.0.1//EN
X-WR-TIMEZONE:America/New_York
X-WR-CALNAME:Upcoming Auctions
BEGIN:VEVENT
UID:99135
DTSTAMP:20230502T090000
DTSTART:20230502T090000
DTEND:20230502T100000
SUMMARY:Public Hardware Online Only Sale! Round 2
LOCATION:505 N. Mangum Street\, Durham\, NC 27701\, US
DESCRIPTION:You do not want to miss Round 2 of this online only sale for
  the historical Public Hardware in Durham\, NC! There are 1\,0
 14 total lots in this round including washers\, paint\, plumbi
 ng items\, nuts\, grade 8 bolts\, nails\, saw blades\, paint supp
 lies\, and lots of safety harness and fall protection devices
 .  Please review the entire catalogue as there are items fo
 r everyone in this one! Pick Up Date and Time: Wednesday\, Ma
 y 3rd 10AM - 6PM
URL:https://www.johnsonproperties.com/auctions/detail/bw99135
SEQUENCE:1
END:VEVENT
END:VCALENDAR