BEGIN:VCALENDAR
VERSION:2.0
PRODID:-//ExpressionEngine Easy iCalendar plugin//NONSGML v2.0.1//EN
X-WR-TIMEZONE:America/New_York
X-WR-CALNAME:Upcoming Auctions
BEGIN:VEVENT
UID:97131
DTSTAMP:20230404T090000
DTSTART:20230404T090000
DTEND:20230404T100000
SUMMARY:Public Hardware Online Only Sale!
LOCATION:505 N. Mangum Street\, Durham\, NC 27701\, US
DESCRIPTION:Preview: Tuesday\, March 28th 10AM - 12PM You do not want to 
 miss this online only sale for the historical Public Hardwar
 e in Durham\, NC!  We have literally thousands of items and 
 this is event #1 of numerous to come.  There is truly somet
 hing for every person in this offering from new Old items to
  every day "got to have items".  Call your friends and chec
 k out all 1\,000 lots in this Historic auction opportunity! P
 ICK-UP INFORMATION: Pick Up Date: Wednesday\, April 5th 10AM 
 - 6PM Pick Up Location: 505 N. Mangum Street\, Durham\, NC 277
 01
URL:https://www.johnsonproperties.com/auctions/detail/bw97131
SEQUENCE:1
END:VEVENT
END:VCALENDAR