BEGIN:VCALENDAR
VERSION:2.0
PRODID:-//ExpressionEngine Easy iCalendar plugin//NONSGML v2.0.1//EN
X-WR-TIMEZONE:America/New_York
X-WR-CALNAME:Upcoming Auctions
BEGIN:VEVENT
UID:95370
DTSTAMP:20230213T093000
DTSTART:20230213T093000
DTEND:20230213T103000
SUMMARY:Round 3: Things from the Past Antiques & Collectibles
LOCATION:333 North Spence Ave\, Goldsboro\, NC 27534\, US
DESCRIPTION:Johnson Properties is running Round 3: Things from the Past 
 Antiques and Collectibles who is liquidating their items! We
  have collections of popular soda companies like Coca-Cola\, 
 and Pepsi\, Nylint and Diecast collectible cars and trucks\, D
 isney\, Nascar\, and more! This is an auction you will NOT wan
 t to miss! Make sure to keep an eye out for more auctions fr
 om this company on our website as we will be posting more. 
   PREVIEW: Thursday\, Feb. 2nd\, 2:00 to 3:00 PM Pick Up Date
 /Time: Tuesday\, February 14th from 10:00am-3:00pm.
URL:https://www.johnsonproperties.com/auctions/detail/bw95370
SEQUENCE:1
END:VEVENT
END:VCALENDAR