BEGIN:VCALENDAR
VERSION:2.0
PRODID:-//ExpressionEngine Easy iCalendar plugin//NONSGML v2.0.1//EN
X-WR-TIMEZONE:America/New_York
X-WR-CALNAME:Upcoming Auctions
BEGIN:VEVENT
UID:95235
DTSTAMP:20230301T113000
DTSTART:20230301T113000
DTEND:20230301T123000
SUMMARY:Formerly Warrens Cricket Farm Inc. Personal Property
LOCATION:180 Bait Rd\, Dunn\, NC 28334\, US
DESCRIPTION:Stay with us after we auction the 9+ Acres as we do a tradit
 ional\, live\, onsite  auction for Warrens Cricket Farm Inc. 
 Personal Property. We will be offering the personal property
  including banding machines\, metal stitchers\, pallet jacks\, 
 tools\, and equipment\, as well as hundreds of metal\, plastic 
 and fiberglass tubs that are perfect for planters\, feeding l
 ivestock\, etc. You will not want to miss what we have! Items
  must be removed from property day of sale.
URL:https://www.johnsonproperties.com/auctions/detail/bw95235
SEQUENCE:1
END:VEVENT
END:VCALENDAR