BEGIN:VCALENDAR
VERSION:2.0
PRODID:-//ExpressionEngine Easy iCalendar plugin//NONSGML v2.0.1//EN
X-WR-TIMEZONE:America/New_York
X-WR-CALNAME:Upcoming Auctions
BEGIN:VEVENT
UID:94285
DTSTAMP:20230318T093000
DTSTART:20230318T093000
DTEND:20230318T103000
SUMMARY:Spring Big Boys Toys 2023
LOCATION:7359 NC HWY 210 N\, Angier\, NC 27501\, US
DESCRIPTION:*** Live/Online Portion Starts Saturday\, March 18th at 10:30
 AM *** Yes it is that time again!  We have another big one 
 this Spring. We have approximately 1\,000 lots on the yard an
 d there are some really nice items including grade 8 bolts\, 
 boats\, campers\, tractors\, trailers\, and lots of tools\, equip
 ment\, lawnmowers and trailers.  We also have some really ni
 ce trucks- from a Ford Ranger to a dump truck and everything
  in between!  A portion of the event will be live /  onlin
 e / simulcast and the remainder will be "old school- traditi
 onal live only".  The auction begins at 9:30 am and we have
  lots of items under the shelters and on trailers so come ea
 rly and spend the day with us!
URL:https://www.johnsonproperties.com/auctions/detail/bw94285
SEQUENCE:1
END:VEVENT
END:VCALENDAR