BEGIN:VCALENDAR
VERSION:2.0
PRODID:-//ExpressionEngine Easy iCalendar plugin//NONSGML v2.0.1//EN
X-WR-TIMEZONE:America/New_York
X-WR-CALNAME:Upcoming Auctions
BEGIN:VEVENT
UID:94156
DTSTAMP:20230111T093000
DTSTART:20230111T093000
DTEND:20230111T103000
SUMMARY:Tomlinson Personal Property Online Only!
LOCATION:6145 Riverside Dr.\, Wake Forest\, NC 27587\, US
DESCRIPTION:This will be an online only personal property auction with a
  great opportunity to purchase a variety of items. There is 
 a large collection of Vintage bedroom furniture\, home applia
 nces\, home decor and lots more. This is not a sale you will 
 want to miss! Pick Up Date/Time: Thursday\, January 12th 11 A
 M until 2 PM
URL:https://www.johnsonproperties.com/auctions/detail/bw94156
SEQUENCE:1
END:VEVENT
END:VCALENDAR