BEGIN:VCALENDAR
VERSION:2.0
PRODID:-//ExpressionEngine Easy iCalendar plugin//NONSGML v2.0.1//EN
X-WR-TIMEZONE:America/New_York
X-WR-CALNAME:Upcoming Auctions
BEGIN:VEVENT
UID:93804
DTSTAMP:20220221T120000
DTSTART:20220221T120000
DTEND:20220221T130000
SUMMARY:Beautiful Spring Lake Home
LOCATION:207 Falling Water Rd\, Spring Lake\, NC 28390\, US
DESCRIPTION:Beautiful 1\,900 sq. ft. brick home with three bedrooms and t
 wo bathrooms located in the gated community of Anderson Cree
 k Club. Walking distance to all amenities which include a po
 ol\, volleyball courts\, tennis courts\, pedal boats\, and so mu
 ch more! There is screened back porch with an additional pat
 io and a gorgeous pond in the back yard! The home is all on 
 one level with virtually NO STEPS! This is a great opportuni
 ty to move into a gated community with lots of amenities and
  plenty of common space and recreational options. You are no
 t going to want to miss this auction! Click on the link to b
 id online NOW!
URL:https://www.johnsonproperties.com/auctions/detail/bw93804
SEQUENCE:1
END:VEVENT
END:VCALENDAR