BEGIN:VCALENDAR
VERSION:2.0
PRODID:-//ExpressionEngine Easy iCalendar plugin//NONSGML v2.0.1//EN
X-WR-TIMEZONE:America/New_York
X-WR-CALNAME:Upcoming Auctions
BEGIN:VEVENT
UID:93600
DTSTAMP:20230112T100000
DTSTART:20230112T100000
DTEND:20230112T110000
SUMMARY:Strickland Online Only Personal Property
LOCATION:735 W Strickland Rd\, Dunn\, NC 28334\, US
DESCRIPTION:This is notice of an important personal property online only
  auction event that will lead up to the real estate auction 
 for 193 acres in Harnett County.  The personal property wi
 ll be offered at absolute auction and it includes lots of co
 llectibles\, furniture\, wicker\, and some really neat vintage 
 type items. This will also be a great chance to preview the 
 home and farm that will be forthcoming also in the near futu
 re.  Preview Date: Thursday\, December 29th 12 Noon to 1 PM
URL:https://www.johnsonproperties.com/auctions/detail/bw93600
SEQUENCE:1
END:VEVENT
END:VCALENDAR