BEGIN:VCALENDAR
VERSION:2.0
PRODID:-//ExpressionEngine Easy iCalendar plugin//NONSGML v2.0.1//EN
X-WR-TIMEZONE:America/New_York
X-WR-CALNAME:Upcoming Auctions
BEGIN:VEVENT
UID:91570
DTSTAMP:20221219T120000
DTSTART:20221219T120000
DTEND:20221219T130000
SUMMARY:10 Acres Adjacent to Canterbury Subdivision in Dunn\, NC
LOCATION:104 Pecan Lane\, Dunn\, NC 28334\, US
DESCRIPTION:Preview Dates: Monday\, December 19th at 11:00 AM until Aucti
 on begins. This is notice of a very important real estate au
 ction in Dunn\, NC. This 10+ acre tract has been divided into
  2 tracts with a portion selling at absolute auction.  This
  will be an online / live / simulcast event.  Water and sew
 er are available to this completely cleared tract with great
  access and tons of potential for future development.  The 
 survey is complete and the map is recorded in Harnett County
  at PB 2022\, page 611.  The Canterbury subdivision is one o
 f the more established and coveted areas in Dunn making this
  tract a super long term investment or a great place to buil
 d your dream estate.
URL:https://www.johnsonproperties.com/auctions/detail/bw91570
SEQUENCE:1
END:VEVENT
END:VCALENDAR