BEGIN:VCALENDAR
VERSION:2.0
PRODID:-//ExpressionEngine Easy iCalendar plugin//NONSGML v2.0.1//EN
X-WR-TIMEZONE:America/New_York
X-WR-CALNAME:Upcoming Auctions
BEGIN:VEVENT
UID:91305
DTSTAMP:20220120T120000
DTSTART:20220120T120000
DTEND:20220120T120000
SUMMARY:Gorgeous Custom Built Home in Keith Hills!
LOCATION:1164 Keith Hills Rd\, Lillington\, NC 27546\, US
DESCRIPTION:This is notice of a very Important Upcoming Online / Live On
 site / Simulcast Auction Event coming up on Thursday\, Januar
 y 20th\, 2022! Team JP has been called upon to assist with of
 fering all of the personal property and Real Estate located 
 in Keith Hills Country Club. This home features three levels
  of custom living space with a full one bedroom apartment in
  the basement as well as a massive second story back porch o
 verlooking the Cape Fear River! The grounds include a gorgeo
 us gazebo and reflection area in the back of the home with v
 iews of the river with azaleas\, walkways\, etc. The home has 
 4 bedrooms\, multiple corner fireplaces\, and all formal areas
  with a breathtaking two story front entry foyer! Be the hig
 h bidder on auction day and you will be the envy of the neig
 hborhood and the entire community! This is a good one folks!
  Get ready to be wowed at first glance! Open House: Thursday
 \, January 13\, 2022 from 12 pm to 1:30 pm\, Thursday\, January 
 18\, 2022 from 10 am until 12 pm and again on auction day Thu
 rsday\, January 20\, 2022 from 10 am until beginning of auctio
 n at 12 pm. Appointments also available!
URL:https://www.johnsonproperties.com/auctions/detail/bw91305
SEQUENCE:1
END:VEVENT
END:VCALENDAR