BEGIN:VCALENDAR
VERSION:2.0
PRODID:-//ExpressionEngine Easy iCalendar plugin//NONSGML v2.0.1//EN
X-WR-TIMEZONE:America/New_York
X-WR-CALNAME:Upcoming Auctions
BEGIN:VEVENT
UID:91302
DTSTAMP:20220117T093000
DTSTART:20220117T093000
DTEND:20220117T093000
SUMMARY:Online Only Auction Event!
LOCATION:4440 Holloman Rd\, Durham\, NC 27703\, US
DESCRIPTION:There is a huge amount of china\, tools\, glassware\, furniture
 \, needlepoint and lots more items. This will be another huge
  auction event. There are some gorgeous antique pieces datin
 g back to the 1800's. Do not miss this one!
URL:https://www.johnsonproperties.com/auctions/detail/bw91302
SEQUENCE:1
END:VEVENT
END:VCALENDAR