BEGIN:VCALENDAR
VERSION:2.0
PRODID:-//ExpressionEngine Easy iCalendar plugin//NONSGML v2.0.1//EN
X-WR-TIMEZONE:America/New_York
X-WR-CALNAME:Upcoming Auctions
BEGIN:VEVENT
UID:90861
DTSTAMP:20221119T090000
DTSTART:20221119T090000
DTEND:20221119T100000
SUMMARY:Big Boys Toys 2022
LOCATION:7359 NC HWY 210N\, Angier\, NC 27501\, US
DESCRIPTION:THANKS TO ALL THAT ATTENDED BOTH ONSITE AND ONLINE!Â  650 RE
 GISTERED BIDDERS!Â  PLEASE NOTE! WE WILL BEGIN THE AUCTION U
 NDER THE TENT AT 9:00 AM!Â  THE ONLINE SIMULCAST WILL START 
 AT 9:30 AM!Â  We will beÂ accepting consignments through Thu
 rsday\, Nov. 17th! We have a very large collection of Vintage
  Tractors on site already.Â  SomeÂ have gone through a full 
 restoration and are "Parade Ready" and many are "project" ty
 pe tractors for the hard core enthusiasts for your Winter Pr
 ojects.Â  There will be at least 40Â of these "gems and uniq
 ue tractors of days gone by".Â  Items are generally offered 
 inÂ the order that they are received and we will be updating
  the catalogue with the sale order on a daily basis.Â  We ha
 ve zero turn mowers\, carry-all type trailers (enclosed and o
 pen) as well as cutters\, finish mowers\, hand tools\, and seve
 ral high top vans!Â  We will be running two auctions for a p
 ortion of the day so bring a friend! Â  Â  Â Â  Â  Â  Â Â  Â
   Â  Â Â  Â  Â  Â Â  Â  Â  Â Â  Â  Â  Â  Â Â  Â  Â  Â Â  Â  
 Â Â  Â  Â Â 
URL:https://www.johnsonproperties.com/auctions/detail/bw90861
SEQUENCE:1
END:VEVENT
END:VCALENDAR