BEGIN:VCALENDAR
VERSION:2.0
PRODID:-//ExpressionEngine Easy iCalendar plugin//NONSGML v2.0.1//EN
X-WR-TIMEZONE:America/New_York
X-WR-CALNAME:Upcoming Auctions
BEGIN:VEVENT
UID:90860
DTSTAMP:20221018T100000
DTSTART:20221018T100000
DTEND:20221025T100000
SUMMARY:Pikeville Personal Property Auction!
LOCATION:317 Fields Rd.\, Pikeville\, NC 27863\, US
DESCRIPTION:This collection of vintage items and household furnishings a
 re from the Patsy Talton Estate.  There are lots of items i
 ncluding a china cabinet\, glass ware\, cedar lined armoires a
 nd lots more.  There are some really neat and old items in 
 the barns also!  Everything sells at absolute auction!
URL:https://www.johnsonproperties.com/auctions/detail/bw90860
SEQUENCE:1
END:VEVENT
END:VCALENDAR