BEGIN:VCALENDAR
VERSION:2.0
PRODID:-//ExpressionEngine Easy iCalendar plugin//NONSGML v2.0.1//EN
X-WR-TIMEZONE:America/New_York
X-WR-CALNAME:Upcoming Auctions
BEGIN:VEVENT
UID:90859
DTSTAMP:20221012T093000
DTSTART:20221012T093000
DTEND:20221024T093000
SUMMARY:Online Auction of Vintage Items and More!
LOCATION:4437 Highcroft Drive\, Cary\, NC 27519\, US
DESCRIPTION:Ms. York has moved and she has called upon Team JP to assist
  with liquidating all of her items.  This is the thrid and 
 final auction event and it includes lots of nice houshold it
 ems\, a large vintage collection of handtools\, scales and lot
 s of other unique and interesting items.  There are some re
 ally old collector type pieces also!  
URL:https://www.johnsonproperties.com/auctions/detail/bw90859
SEQUENCE:1
END:VEVENT
END:VCALENDAR