BEGIN:VCALENDAR
VERSION:2.0
PRODID:-//ExpressionEngine Easy iCalendar plugin//NONSGML v2.0.1//EN
X-WR-TIMEZONE:America/New_York
X-WR-CALNAME:Upcoming Auctions
BEGIN:VEVENT
UID:161038
DTSTAMP:20260518T093000
DTSTART:20260518T093000
DTEND:20260518T103000
SUMMARY:Online only Personal Property Auction at JP
LOCATION:7359 NC HWY 210\, Angier\, NC 27501\, US
DESCRIPTION:Don’t miss this great auction featuring a variety of items
  including exercise equipment\, glassware\, dishes\, car tires\,
  and dog gates. Whether you’re upgrading your home\, garage
 \, or pet space\, there’s something for everyone. Bid now an
 d grab some great deals!
URL:https://www.johnsonproperties.com/auctions/detail/bw161038
SEQUENCE:1
END:VEVENT
END:VCALENDAR