BEGIN:VCALENDAR
VERSION:2.0
PRODID:-//ExpressionEngine Easy iCalendar plugin//NONSGML v2.0.1//EN
X-WR-TIMEZONE:America/New_York
X-WR-CALNAME:Upcoming Auctions
BEGIN:VEVENT
UID:160885
DTSTAMP:20260520T093000
DTSTART:20260520T093000
DTEND:20260520T103000
SUMMARY:Online Only Personal Property Auction 40/42 area Garner Roun
 d 2!
LOCATION:3220 North Shiloh Rd\, Garner\, NC 27592\, US
DESCRIPTION:This auction features a wide selection of high-quality tools
 \, equipment\, and large toolboxes. You’ll also find ladders
 \, multiple washers and dryers\, and plenty of other useful it
 ems—all available in this online-only auction.
URL:https://www.johnsonproperties.com/auctions/detail/bw160885
SEQUENCE:1
END:VEVENT
END:VCALENDAR