BEGIN:VCALENDAR
VERSION:2.0
PRODID:-//ExpressionEngine Easy iCalendar plugin//NONSGML v2.0.0//EN
X-WR-TIMEZONE:America/New_York
X-WR-CALNAME:Upcoming Auctions
BEGIN:VEVENT
UID:154772
DTSTAMP:20260129T100000
DTSTART:20260129T100000
DTEND:20260129T110000
SUMMARY:Live Only Misc Farm Equipment Auction!
LOCATION:3266 McNeill Hobbs Rd\, Bunnlevel\, NC 28323\, US
DESCRIPTION:This LIVE ONLY auction will include miscellaneous farm equip
 ment to include a combine\, tractors etc. Come spend the morn
 ing with us and lets get this stuff sold! All items must be 
 removed by the buyers. Team JP has already sold the farm and
  this is the remaining equipment!  We have grain drills\, gr
 ain augers\, JD disks\, bottom plows\, Case tractors\, A JD comb
 ine with multiple corn and grain headers.  Tools\, shop equi
 pment and lots more.  There are some vintage items and even
  some pre-finished Bruce hardware flooring (multiple boxes).
   Bring your trailer  and get ready for an old school live
  only auction event!
URL:https://www.johnsonproperties.com/auctions/detail/bw154772
SEQUENCE:1
END:VEVENT
END:VCALENDAR