BEGIN:VCALENDAR
VERSION:2.0
PRODID:-//ExpressionEngine Easy iCalendar plugin//NONSGML v2.0.1//EN
X-WR-TIMEZONE:America/New_York
X-WR-CALNAME:Upcoming Auctions
BEGIN:VEVENT
UID:135309
DTSTAMP:20250225T093000
DTSTART:20250225T093000
DTEND:20250225T103000
SUMMARY:Round 4 of the Huge Collection of Glassware and lots more Se
 lling Absolute in this Online Only Auction Event!
LOCATION:515 Docs Rd\, Lillington\, NC 27546\, US
DESCRIPTION:Online Only Auction Event that has a tremendous collection o
 f glassware\, antiques\, furniture and too much to mention.  
 This is auction #4 for the Bottger Family and the amount of 
 glassware including Uranium glass\, pottery by Hull and McCoy
  and others\, cast iron pieces from Griswold and others are a
 lways the envy of any serious collector. 
URL:https://www.johnsonproperties.com/auctions/detail/bw135309
SEQUENCE:1
END:VEVENT
END:VCALENDAR