BEGIN:VCALENDAR
VERSION:2.0
PRODID:-//ExpressionEngine Easy iCalendar plugin//NONSGML v2.0.1//EN
X-WR-TIMEZONE:America/New_York
X-WR-CALNAME:Upcoming Auctions
BEGIN:VEVENT
UID:134489
DTSTAMP:20250312T120000
DTSTART:20250312T120000
DTEND:20250312T130000
SUMMARY:128 +/- Acres in Duplin County!
LOCATION:836 N Blizzard Town Rd\, Pinkhill\, NC 28518\, US
DESCRIPTION:Team JP has been called upon to assist with selling a super 
 tract in Duplin County!  Nearly 128 +/- acres will be subdi
 vided for this online/live/simulcast auction.  We will have
  tracts from approximately 4 acres up to 20+ acres.  You wi
 ll have the chance to purchase one tract up to all 10 parcel
 s. RECORDED MAP POSTED!     Auction to be held at Tower 11
 0\, 110 W Broadway St\, Pink Hill\, NC 28572  
URL:https://www.johnsonproperties.com/auctions/detail/bw134489
SEQUENCE:1
END:VEVENT
END:VCALENDAR