BEGIN:VCALENDAR
VERSION:2.0
PRODID:-//ExpressionEngine Easy iCalendar plugin//NONSGML v2.0.1//EN
X-WR-TIMEZONE:America/New_York
X-WR-CALNAME:Upcoming Auctions
BEGIN:VEVENT
UID:134251
DTSTAMP:20250322T093000
DTSTART:20250322T093000
DTEND:20250322T103000
SUMMARY:BIG BOYZ TOYZ SPRING 2025
LOCATION:7359 NC HWY 210 NORTH\, ANGIER\, NC 27501\, US
DESCRIPTION:Team JP is putting together another great auction for our Sp
 ring Version of BIG BOYZ TOYZ!  A portion of the event wil
 l be live/online/simulcast and the remainder will be "old sc
 hool-traditional live only".  The auction begins at 9:30am 
 and we will have hundreds of items! Make sure to come earl
 y and spend the day with us!  We will be running 2 auction 
 crews so bring a friend so you do not miss any of the great 
 items on Saturday.  Call today and mark you calendars! 
URL:https://www.johnsonproperties.com/auctions/detail/bw134251
SEQUENCE:1
END:VEVENT
END:VCALENDAR