BEGIN:VCALENDAR
VERSION:2.0
PRODID:-//ExpressionEngine Easy iCalendar plugin//NONSGML v2.0.1//EN
X-WR-TIMEZONE:America/New_York
X-WR-CALNAME:Upcoming Auctions
BEGIN:VEVENT
UID:133496
DTSTAMP:20250129T110000
DTSTART:20250129T110000
DTEND:20250129T120000
SUMMARY:Huge Online/Live/Simulcast Firearms Auction!
LOCATION:48 Progressive Pkwy\, Angier\, NC 27501\, US
DESCRIPTION:This will be a nice Firearms Online/Simulcast Auction Event 
 conducted for a longtime friend of the Johnson Properties Au
 ction Team.  We have numerous handguns as well as rifles\, s
 hotguns and lots more. If you have been looking to add to yo
 ur collection or if you have been looking for that hard to 
 find pistol\, hunting rifle or shotgun this is definitely the
  auction for you.   AUCTION IS CASH/CERTIFIED FUNDS ONLY. 
 All Firearms are stored and available for preview at the 
 posted times at Lillington Guns and Ammo.    There will be
  no firearms at the JP facility during this auction and all 
 will be sold using a slide presentation in catalogue order i
 n this simulcast event.  Feel free to come join us at the J
 P facility and bid in person or bid from from home on the li
 nk provided below!
URL:https://www.johnsonproperties.com/auctions/detail/bw133496
SEQUENCE:1
END:VEVENT
END:VCALENDAR