BEGIN:VCALENDAR
VERSION:2.0
PRODID:-//ExpressionEngine Easy iCalendar plugin//NONSGML v2.0.1//EN
X-WR-TIMEZONE:America/New_York
X-WR-CALNAME:Upcoming Auctions
BEGIN:VEVENT
UID:133318
DTSTAMP:20250210T090000
DTSTART:20250210T090000
DTEND:20250210T100000
SUMMARY:Online Only Personal Property Auction in Clinton!
LOCATION:112 Reynard Path\, Clinton\, NC 28328\, US
DESCRIPTION:Join team JP for this online only personal property auction 
 in Clinton\, NC.  Included in this sale will be glassware\, 
 furniture\, a couple bikes\, painted decorative plates\, crysta
 l and silver serving dishes\, art pieces and so much more! Th
 ere are also multiple sets of vintage fine china with large 
 place settings!
URL:https://www.johnsonproperties.com/auctions/detail/bw133318
SEQUENCE:1
END:VEVENT
END:VCALENDAR