BEGIN:VCALENDAR
VERSION:2.0
PRODID:-//ExpressionEngine Easy iCalendar plugin//NONSGML v2.0.1//EN
X-WR-TIMEZONE:America/New_York
X-WR-CALNAME:Upcoming Auctions
BEGIN:VEVENT
UID:129274
DTSTAMP:20241101T090000
DTSTART:20241101T090000
DTEND:20241101T100000
SUMMARY:Large Woodworking Shop with many new tools! ONLINE ONLY EVEN
 T!
LOCATION:25 Ruth Circle\, Fuquay-Varina\, NC 27526\, US
DESCRIPTION:This will be a super auction of a large variety and assortme
 nt of shop tools and woodworking items in this ONLINE ONLY A
 UCTION EVENT! There are table saws\, bar and pipe clamps\, mo
 st every type of sander\, router\, drill\, saw\, planer\, jointer
 s that you can imagine.  There are numerous punch and socke
 t sets (many still in their original unopened boxes\, cases)
 .  There are multiple air compressors\, a dust collection sy
 stem\, a Delta Lathe\, and too many hand tools to count.  We 
 will be posting the preview dates soon so keep checking this
  site for the updated catalogue and additional pictures.
URL:https://www.johnsonproperties.com/auctions/detail/bw129274
SEQUENCE:1
END:VEVENT
END:VCALENDAR