BEGIN:VCALENDAR
VERSION:2.0
PRODID:-//ExpressionEngine Easy iCalendar plugin//NONSGML v2.0.1//EN
X-WR-TIMEZONE:America/New_York
X-WR-CALNAME:Upcoming Auctions
BEGIN:VEVENT
UID:127837
DTSTAMP:20241023T093000
DTSTART:20241023T093000
DTEND:20241023T103000
SUMMARY:Large Personal Property Auction with Furnishings\, Musical In
 struments and Lots More!
LOCATION:2424 Bunnlevel Erwin \, Erwin\, NC 28334\, US
DESCRIPTION:Online Only Event with several hundred lots of items too num
 erous to mention this early. Photos and catalogue are posted
 ! Get ready for a big Online Only Event!
URL:https://www.johnsonproperties.com/auctions/detail/bw127837
SEQUENCE:1
END:VEVENT
END:VCALENDAR