BEGIN:VCALENDAR
VERSION:2.0
PRODID:-//ExpressionEngine Easy iCalendar plugin//NONSGML v2.0.1//EN
X-WR-TIMEZONE:America/New_York
X-WR-CALNAME:Upcoming Auctions
BEGIN:VEVENT
UID:127832
DTSTAMP:20241029T150000
DTSTART:20241029T150000
DTEND:20241029T160000
SUMMARY:2.5+ acres and a Gorgeous Venue with Tons of Potential!
LOCATION:699 South Lincoln Street\, Coats\, NC 27521\, US
DESCRIPTION:This early notice of an upcoming auction on behalf of the Mi
 chael Lester Estate (deceased) in Coats\, NC.  This facility
  was used as an intimate setting for weddings\, birthday part
 ies\, etc. as it has multiple shelters\, photo opportunities a
 nd just a great overall "feel good" atmosphere.  The main 
 facility was used as the home and there are so many flowers\,
  etc that this place looks like a true "Garden of Eden" in t
 he rough!  It is hard to describe so make sure and call JP 
 to schedule your private tour.  This is a great facility an
 d only a 2 minute drive to downtown Coats and within a very 
 quick commute to Campbell University\, Dunn and Angier. 
URL:https://www.johnsonproperties.com/auctions/detail/bw127832
SEQUENCE:1
END:VEVENT
END:VCALENDAR