BEGIN:VCALENDAR
VERSION:2.0
PRODID:-//ExpressionEngine Easy iCalendar plugin//NONSGML v2.0.1//EN
X-WR-TIMEZONE:America/New_York
X-WR-CALNAME:Upcoming Auctions
BEGIN:VEVENT
UID:127686
DTSTAMP:20241014T090000
DTSTART:20241014T090000
DTEND:20241014T100000
SUMMARY:Online Only Personal Property Auction out of Fuquay! Pick up
  9am to 11:30 today! Tues / Oct. 15th!
LOCATION:2108 Buck Corner Lane\, Fuquay Varina\, NC 27526\, US
DESCRIPTION:An online auction close to home! This online only auction in
 cludes a ton of great items for your home.  From four post 
 beds\, sewing machines\, Christmas decor\, kids toys\, glassware
 \, hutches\, and tons of outdoor items.  Please check back as
  we update this one!
URL:https://www.johnsonproperties.com/auctions/detail/bw127686
SEQUENCE:1
END:VEVENT
END:VCALENDAR