BEGIN:VCALENDAR
VERSION:2.0
PRODID:-//ExpressionEngine Easy iCalendar plugin//NONSGML v2.0.1//EN
X-WR-TIMEZONE:America/New_York
X-WR-CALNAME:Upcoming Auctions
BEGIN:VEVENT
UID:127093
DTSTAMP:20241024T110000
DTSTART:20241024T110000
DTEND:20241024T120000
SUMMARY:Once in a Lifetime Chance at an Apex Home!
LOCATION:513 Pate Street\, Apex\, NC 27502\, US
DESCRIPTION:This is a great chance to buy a unique Home within walking d
 istance to the bustling downtown Apex business district with
  all the shopping\, dining and fun you can absorb.Â  Walk to 
 the skate park\, school\, and just about everything you need!Â
   Sell your car and buy a new pair of tennis shoes and enjoy
  this masterpiece.Â  Huge lot\, big trees\, lots of space and 
 oh the afternoonsÂ you will enjoy on this massive front porc
 h.Â  Step back in time and out and about town!Â  This is a r
 eal gem and great opportunity!
URL:https://www.johnsonproperties.com/auctions/detail/bw127093
SEQUENCE:1
END:VEVENT
END:VCALENDAR