BEGIN:VCALENDAR
VERSION:2.0
PRODID:-//ExpressionEngine Easy iCalendar plugin//NONSGML v2.0.1//EN
X-WR-TIMEZONE:America/New_York
X-WR-CALNAME:Upcoming Auctions
BEGIN:VEVENT
UID:126299
DTSTAMP:20240916T090000
DTSTART:20240916T090000
DTEND:20240916T100000
SUMMARY:NASCAR Memorabilia Online Only Auction
LOCATION:48 Progressive Pkwy\, Angier\, NC 27501\, US
DESCRIPTION:This online only NASCAR auction is one to tell your friends 
 about! There are countless die cast collectible cars new in 
 the original packaging\, framed posters\, NASCAR trading cards
 \, signed memorabilia\, flags\, a racing jersey\, a pit crew shi
 rt\, race games\, Winston cup items\, Indy cars\, and even a few
  baseball\, basketball and football collectibles.  Make sure
  to look through the entire catalog as there are so many gre
 at items!
URL:https://www.johnsonproperties.com/auctions/detail/bw126299
SEQUENCE:1
END:VEVENT
END:VCALENDAR