BEGIN:VCALENDAR
VERSION:2.0
PRODID:-//ExpressionEngine Easy iCalendar plugin//NONSGML v2.0.1//EN
X-WR-TIMEZONE:America/New_York
X-WR-CALNAME:Upcoming Auctions
BEGIN:VEVENT
UID:125855
DTSTAMP:20240909T090000
DTSTART:20240909T090000
DTEND:20240909T100000
SUMMARY:Large Collection of Collectible Trading Cards\, Sport Memorab
 ilia\, Coins and Stamps
LOCATION:48 Progressive Pkwy\, Angier\, NC 27501\, US
DESCRIPTION:Items being added daily to this huge trading card and memora
 bilia auction event.  Keep checking this site for additiona
 l lots\, photos\, etc.  This is THE AUCTION if you have inter
 est in trading cards and / or Sports Memorabilia\, coins and 
 stamps!  Call your friends and neighbors and spread the wor
 d!
URL:https://www.johnsonproperties.com/auctions/detail/bw125855
SEQUENCE:1
END:VEVENT
END:VCALENDAR