BEGIN:VCALENDAR
VERSION:2.0
PRODID:-//ExpressionEngine Easy iCalendar plugin//NONSGML v2.0.1//EN
X-WR-TIMEZONE:America/New_York
X-WR-CALNAME:Upcoming Auctions
BEGIN:VEVENT
UID:124321
DTSTAMP:20240903T080000
DTSTART:20240903T080000
DTEND:20240903T090000
SUMMARY:WASPCO Online Liquidation Auction  (OVER 1\,000 lots included
  in this Huge Auction!)
LOCATION:4628 Industry Lane\, Durham\, NC 27713\, US
DESCRIPTION:Team JP has been called upon by the owners of Waspco Corpora
 tion to assist with liquidating all of their remaining tools
 \, equipment\, etc. in a massive online only auction event!  
 This event will include lots of tools by Dewalt\, Ryobi\, as w
 ell as numerous Hilti products like fasteners\, pin guns\, and
  lots more.  There are ladders of most any size\, job boxes\,
  a large group of scaffolding as well as all of the conferen
 ce room\, office equipment and literally hundreds of hand and
  power tools.  There is also a large collection of fall pro
 tection and safety devices including anchors\, brakes\, ropes\,
  harness and more!  Team JP will be updating this site regu
 larly and posting preview and auction dates soon.  The firs
 t 400 lots of the catalogue are posted here for early review
  and pictures as well.  Keep checking this site for updates
  and updated catalogues\, etc.  This is a big one if you are
  in the drywall or construction business!  THIS IS FIRST CL
 ASS EQUIPMENT WITH OVER 1\,000 TOTAL LOTS! SOMETHING FOR EVER
 YONE!   Please note: WE HAVE MADE AN ATTEMPT TO TEST MOST 
  ITEMS AND WE HAVE CALLED ANY THAT APPEAR TO BE NOT WORKING 
 BUT PLEASE UNDERSTAND MOST ITEMS ARE USED AND CAME RIGHT OFF
  THE JOBSITE OUT OF THE JOB BOXES UNLESS OTHERWISE DESCRIBED
 !  PLEASE ASSUME YOU ARE BIDDING ON AN ENTIRE GROUP OR LOT 
 UNLESS THE DESCRIPTION SAYS BID IS X 2\, ETC.
URL:https://www.johnsonproperties.com/auctions/detail/bw124321
SEQUENCE:1
END:VEVENT
END:VCALENDAR