BEGIN:VCALENDAR
VERSION:2.0
PRODID:-//ExpressionEngine Easy iCalendar plugin//NONSGML v2.0.1//EN
X-WR-TIMEZONE:America/New_York
X-WR-CALNAME:Upcoming Auctions
BEGIN:VEVENT
UID:121946
DTSTAMP:20240628T090000
DTSTART:20240628T090000
DTEND:20240628T100000
SUMMARY:Online Only Estate Auction out of Selma\, NC
LOCATION:2947 N NC 96 Highway\, Selma\, NC 27576\, US
DESCRIPTION:The JP Team is honored to assist the executor of the estate 
 of the late Marvin "Buddy" Bailey Jr.\, Buddy was well a know
 n pianist as well as a piano teacher in the area.  We will
  be offering all of the contents of his home\, furniture\, You
 ng Chang G157 baby grand piano\, Wurlitzer organ\, Suzuki G33 
 electric piano\, Yamaha Arius electric piano\, Kawai Digital C
 onsole Piano\, Star Wars collectibles\, one of the largest pr
 ivate collections of cd's you will find\, washer and dryer\, l
 ots of yard art and much more.  This is one online auction
  you will not want to miss.
URL:https://www.johnsonproperties.com/auctions/detail/bw121946
SEQUENCE:1
END:VEVENT
END:VCALENDAR