BEGIN:VCALENDAR
VERSION:2.0
PRODID:-//ExpressionEngine Easy iCalendar plugin//NONSGML v2.0.1//EN
X-WR-TIMEZONE:America/New_York
X-WR-CALNAME:Upcoming Auctions
BEGIN:VEVENT
UID:121558
DTSTAMP:20240625T090000
DTSTART:20240625T090000
DTEND:20240625T100000
SUMMARY:Online only Personal Property Auction in the Dunn area.
LOCATION:108 N Ellis Ave\, Dunn\, NC 28334\, US
DESCRIPTION:This auction truly has something for everyone including coll
 ectibles\, electronics\, turntables\, amplifiers\, and even a Vi
 ctrola!  There is a large collection of LP albums\, 45's and
  lots more items. There is a Nordic Track elliptical and bar
 bells for the folks that like to exercise!     Auction Pic
 k up Date/Time: Thursday\, June 27th\, 1:30 to 3:30 PM Auction
  Location: 108 N Ellis Ave\, Dunn\, NC 28334
URL:https://www.johnsonproperties.com/auctions/detail/bw121558
SEQUENCE:1
END:VEVENT
END:VCALENDAR