BEGIN:VCALENDAR
VERSION:2.0
PRODID:-//ExpressionEngine Easy iCalendar plugin//NONSGML v2.0.1//EN
X-WR-TIMEZONE:America/New_York
X-WR-CALNAME:Upcoming Auctions
BEGIN:VEVENT
UID:121211
DTSTAMP:20240613T090000
DTSTART:20240613T090000
DTEND:20240613T100000
SUMMARY:Living Estate Auction for all contents of a Brick Ranch Home
 ! (Name withheld at owners request)
LOCATION:111 Holland Hills Dr\, Goldsboro\, NC 27530\, US
DESCRIPTION:This is notice of a super opportunity to buy some really nic
 e items in an online only auction event near Goldsboro\, NC.Â
   This 3 bedroom brick ranch with a full basement is loaded 
 with glassware\, dining room and multiple bedroom suites as w
 ell as some really nice individual decorative pieces.Â  Ther
 e is a John Deere riding mower\, a Massey Ferguson 135 diesel
 \, rotary cutter\, box blade\, several tools\, compressors\, floo
 r jack\, blowers\, etc.Â  This is a great opportunity to buy t
 he items of your choice at your price!Â Â Â 
URL:https://www.johnsonproperties.com/auctions/detail/bw121211
SEQUENCE:1
END:VEVENT
END:VCALENDAR