BEGIN:VCALENDAR
VERSION:2.0
PRODID:-//ExpressionEngine Easy iCalendar plugin//NONSGML v2.0.1//EN
X-WR-TIMEZONE:America/New_York
X-WR-CALNAME:Upcoming Auctions
BEGIN:VEVENT
UID:120676
DTSTAMP:20240603T120000
DTSTART:20240603T120000
DTEND:20240603T130000
SUMMARY:Mid 90s Luhrs 29 Open Sportfisher
LOCATION:104 Marina Dr\, New Bern\, NC 28560\, US
DESCRIPTION:This Luhrs 29 open Sportfisher boat is the one to create all
  the memories with your family!  It has a dual diesel motor
 \, possibly a Volvo.  The boat appears to be manufactured in
  the mid 90s\, and appears to have all the original instrumen
 ts\, helms\, throttle gear controls and navigation from the er
 a.  There is an enclosed berth area with double bunks and a
  head with shower and fixed commode.  There is a place for 
 a mini fridge and a countertop microwave. Join us for this o
 nline/live/simulcast auction! Seller will be responsible for
  any dock fees through Monday\, June 10th. VIN LHRT9158H394 A
 uction Date/Time: Monday\, June 3rd at 12 Noon Auction Locati
 on: 104 Marina Dr New Bern\, NC 28560
URL:https://www.johnsonproperties.com/auctions/detail/bw120676
SEQUENCE:1
END:VEVENT
END:VCALENDAR