BEGIN:VCALENDAR
VERSION:2.0
PRODID:-//ExpressionEngine Easy iCalendar plugin//NONSGML v2.0.1//EN
X-WR-TIMEZONE:America/New_York
X-WR-CALNAME:Upcoming Auctions
BEGIN:VEVENT
UID:120259
DTSTAMP:20240627T120000
DTSTART:20240627T120000
DTEND:20240627T130000
SUMMARY:Cottage Style Home in Erwin!
LOCATION:304 East D Street\, Erwin\, NC 28339\, US
DESCRIPTION:This Cottage Style home will be offered in a live / online /
  simulcast auction held on the property! Two bedrooms\, two f
 ull baths and a formal dining room with a large family room\,
  large rear deck and spacious front porch are just a few thi
 ngs that make this home special!  Only a two minute walk to
  the new Erwin Elementary School! Perfect location to enjoy 
 "Walk your children to School Day!"   THANKS TO ALL THAT A
 TTENDED EITHER ONLINE OR IN PERSON!  SELL WITH TEAM JP!
URL:https://www.johnsonproperties.com/auctions/detail/bw120259
SEQUENCE:1
END:VEVENT
END:VCALENDAR