BEGIN:VCALENDAR
VERSION:2.0
PRODID:-//ExpressionEngine Easy iCalendar plugin//NONSGML v2.0.1//EN
X-WR-TIMEZONE:America/New_York
X-WR-CALNAME:Upcoming Auctions
BEGIN:VEVENT
UID:120085
DTSTAMP:20240626T123000
DTSTART:20240626T123000
DTEND:20240626T133000
SUMMARY:Multiple Tracts offered throughout Harnett County at Absolut
 e Auction!
LOCATION:48 Progressive Pkwy\, Angier\, NC 27592\, US
DESCRIPTION:Three Locations in Harnett County with a total of approximat
 ely 70 acres offered in multiple tracts at ABSOLUTE AUCTION!
  This will be another Live / Online / Simulcast Auction Even
 t conducted by Team JP!  We just added 75 additional acres 
 in Sampson County to this event!  
URL:https://www.johnsonproperties.com/auctions/detail/bw120085
SEQUENCE:1
END:VEVENT
END:VCALENDAR