BEGIN:VCALENDAR
VERSION:2.0
PRODID:-//ExpressionEngine Easy iCalendar plugin//NONSGML v2.0.1//EN
X-WR-TIMEZONE:America/New_York
X-WR-CALNAME:Upcoming Auctions
BEGIN:VEVENT
UID:119846
DTSTAMP:20240511T113000
DTSTART:20240511T113000
DTEND:20240511T123000
SUMMARY:Personal Property on Kerr Lake in Clarksville\, VA
LOCATION:182 Maplewood Ct\, Clarksville\, VA 23927\, US
DESCRIPTION:Call your friends and plan on joining us on Sat. May 11th fo
 r the opportunity of a lifetime! Not only are we selling the
  real estate but the personal property as well! This person
 al property auction will get you started on all you need for
  that lake life! THE BOAT IS BEING OFFERED AS A LIVE/ONLINE/
 SIMULCAST AUCTION.  THIS AUCTION WILL START AROUND 11:45AM.
  BID NOW! Live only items will be immediately following the 
 boat! Auction Date/Time: Saturday\, May 11th at 11:30am  Auc
 tion Location: 182 Maplewood Ct\, Clarksville\, VA 23927
URL:https://www.johnsonproperties.com/auctions/detail/bw119846
SEQUENCE:1
END:VEVENT
END:VCALENDAR