BEGIN:VCALENDAR
VERSION:2.0
PRODID:-//ExpressionEngine Easy iCalendar plugin//NONSGML v2.0.1//EN
X-WR-TIMEZONE:America/New_York
X-WR-CALNAME:Upcoming Auctions
BEGIN:VEVENT
UID:116752
DTSTAMP:20240402T100000
DTSTART:20240402T100000
DTEND:20240402T110000
SUMMARY:Firearms and Ammo Auction!
LOCATION:811 W. Front St\, Lillington\, NC 27546\, US
DESCRIPTION:Calling all hunters or gun enthusiast! This auction has some
  amazing hand guns\, rifles\, shotguns and ammo to include bra
 nds like Smith and Wesson\, Winchester\, Baikal\, Mitchells Mau
 sers\, Marlin\, Thompson\, Colt\, Ruger\, Black Reign and so much
  more.  Please read the terms and conditions. Pick up Date/
 Time: Wednesday\, April 3rd 10am-12 noon Pick up Location Fir
 earms: Lillington Guns & Ammo 811 W. Front St Lillington\, NC
  27546 Pick up Location ammo and others: 48 Progressive Pkwy
 \, Angier\, NC 27501
URL:https://www.johnsonproperties.com/auctions/detail/bw116752
SEQUENCE:1
END:VEVENT
END:VCALENDAR