BEGIN:VCALENDAR
VERSION:2.0
PRODID:-//ExpressionEngine Easy iCalendar plugin//NONSGML v2.0.1//EN
X-WR-TIMEZONE:America/New_York
X-WR-CALNAME:Upcoming Auctions
BEGIN:VEVENT
UID:115422
DTSTAMP:20240306T090000
DTSTART:20240306T090000
DTEND:20240306T100000
SUMMARY:Complete contents of a home in Erwin selling in an online ab
 solute auction!
LOCATION:304 East D Street\, Erwin\, NC 28339\, US
DESCRIPTION:This is notice of an absolute online only auction event for 
 the entire contents of a home in Erwin.  There are lots of 
 collectibles\, kitchenware\, furnishings\, quilts\, outdoor conc
 rete bird baths\, vinyl wicker rockers\, porch furniture and l
 ots more included in this auction.    Pick up Date/Time: T
 hursday March 7th 2:30-5:30pm Location: 304 East D St\, Erwin
 \, NC 28339
URL:https://www.johnsonproperties.com/auctions/detail/bw115422
SEQUENCE:1
END:VEVENT
END:VCALENDAR