BEGIN:VCALENDAR
VERSION:2.0
PRODID:-//ExpressionEngine Easy iCalendar plugin//NONSGML v2.0.1//EN
X-WR-TIMEZONE:America/New_York
X-WR-CALNAME:Upcoming Auctions
BEGIN:VEVENT
UID:113858
DTSTAMP:20240208T090000
DTSTART:20240208T090000
DTEND:20240208T100000
SUMMARY:Byrd Living Estate out of Lillington!
LOCATION:95 Troy Eason Farm Rd\, Lillington\, NC 27546\, US
DESCRIPTION:After more than 50 years Mrs. Byrd has decided it’s time t
 o downsize and is selling all of her personal property. This
  will be an online only auction. There are items from around
  the world\, when her and her husband traveled with the milit
 ary. Some of her items will be her large collection of Norma
 n Rockwell commemorative plates\, Tom Clark Gnomes\, Snow Babi
 es\, kitchens items\, hand tools\, yard tools\, generator\, air c
 ompressor\, and much more in the barns that we have not catal
 og yet. Keep watching this site as the catalog grows. Pick u
 p Date and Time: Friday February 9th 10am-1pm Pick up Locati
 on: 95 Troy Eason Farm Rd Lillington\, NC 27546
URL:https://www.johnsonproperties.com/auctions/detail/bw113858
SEQUENCE:1
END:VEVENT
END:VCALENDAR