BEGIN:VCALENDAR
VERSION:2.0
PRODID:-//ExpressionEngine Easy iCalendar plugin//NONSGML v2.0.1//EN
X-WR-TIMEZONE:America/New_York
X-WR-CALNAME:Upcoming Auctions
BEGIN:VEVENT
UID:113339
DTSTAMP:20240205T090000
DTSTART:20240205T090000
DTEND:20240205T100000
SUMMARY:Vintage Toys\, Tractors\, Petroliana Collectables and More!
LOCATION:3398 Alvin Road\, Grimesland\, NC 27837\, US
DESCRIPTION:Mr. Nobles has been collecting metal and tin toys such as Bu
 ddy L\, Nylint\, Structo\, Marx\, Hot Wheels\, and others for ye
 ars and he has retired and is offering his collection at abs
 olute auction.  There are hundreds of items and this online
  event will include a variety of hard to find and unique ite
 ms related to toys\, figurines\, collectibles\, petroleum signs
 \, thermometers\, and lots of advertising items.  You name it
  and it is most likely included in this event. This auction 
 will certainly take you back to your childhood when you were
  "clearing the land"\, "riding the range"\, or just plain old 
 being a kid in the country having fun! Pick up Date/Time:Tue
 sday Feb 6th 1pm-4pm Pick up Location: 3398 Alvin Rd Grimesl
 and\, NC 27837  
URL:https://www.johnsonproperties.com/auctions/detail/bw113339
SEQUENCE:1
END:VEVENT
END:VCALENDAR