BEGIN:VCALENDAR
VERSION:2.0
PRODID:-//ExpressionEngine Easy iCalendar plugin//NONSGML v2.0.1//EN
X-WR-TIMEZONE:America/New_York
X-WR-CALNAME:Upcoming Auctions
BEGIN:VEVENT
UID:112321
DTSTAMP:20240108T090000
DTSTART:20240108T090000
DTEND:20240108T100000
SUMMARY:Online Only Living Estate with Antiques! (Name withheld by r
 equest)
LOCATION:206 Knott Dr.\, Knightdale\, NC 27545\, US
DESCRIPTION:****WILL BE AT PICK UP TODAY JAN. 9TH  AS EARLY AS 10:30AM*
 ***   This estate has some really neat small and gorgeous h
 ard to find antiques including end tables\, drop leaf tables\,
  doll items\, salesman samples\, etc.  There are also multipl
 e display cabinets and a very rare old Stella Disc Phonograp
 h that works!  Pick up Date / Time: Tuesday\, January 9th fr
 om 12:00pm - 3:00pm Pick up Location: 206 Knott Dr. Knightda
 le\, NC 27545
URL:https://www.johnsonproperties.com/auctions/detail/bw112321
SEQUENCE:1
END:VEVENT
END:VCALENDAR