BEGIN:VCALENDAR
VERSION:2.0
PRODID:-//ExpressionEngine Easy iCalendar plugin//NONSGML v2.0.1//EN
X-WR-TIMEZONE:America/New_York
X-WR-CALNAME:Upcoming Auctions
BEGIN:VEVENT
UID:111915
DTSTAMP:20231220T090000
DTSTART:20231220T090000
DTEND:20231220T100000
SUMMARY:Joe Sugar's Menswear in St. Pauls\, NC Final Online Only Liqu
 idation Event!
LOCATION:119 W. Broad St.\, St. Pauls\, NC 28384\, US
DESCRIPTION:Joe Sugar's Menswear in St. Pauls\, NC has been "Dressing Men
 " throughout NC for over 100 years.  They have closed the o
 riginal location and have called upon Team JP to assist with
  the final liquidation of all the remaining inventory\, racks
 \, displays and memorabilia in this Historic Location.  Ther
 e are hundreds of items for Men including suits\, sport coats
 \, shirts\, pants\, etc. as well as displays\, racks and adverti
 sing and antique memorabilia.  This is an auction to call y
 our best dressed friends about.  This will be an online onl
 y event and your last chance to purchase from this location 
 in over 100 years! The Final Catalogue has been posted!  5
 00 Lots now to choose from! Pickup Date / Time: Thursday Dec
 ember 21st from 12:00pm - 3:00pm Pickup Location: 119 W. Bro
 ad St. St. Pauls\, NC 28384
URL:https://www.johnsonproperties.com/auctions/detail/bw111915
SEQUENCE:1
END:VEVENT
END:VCALENDAR