BEGIN:VCALENDAR
VERSION:2.0
PRODID:-//ExpressionEngine Easy iCalendar plugin//NONSGML v2.0.1//EN
X-WR-TIMEZONE:America/New_York
X-WR-CALNAME:Upcoming Auctions
BEGIN:VEVENT
UID:111670
DTSTAMP:20240110T100000
DTSTART:20240110T100000
DTEND:20240110T110000
SUMMARY:Grading Company Auction Online / Live / Simulcast Event!
LOCATION:12331 NC 42\, Fuquay Varina\, NC 27526\, US
DESCRIPTION:This auction will consist of large trailers\, log trucks\, dum
 p trucks\, vans\, vehicles and other large equipment! Come joi
 n us on Wednesday January 10th at 10am for this online/live/
 simulcast auction! Preview as early as 8:30am the day of the
  auction! PICK UP DATE/TIME: Wednesday Jan 10th immediately 
 following the auction\, Thursday Jan 11th 8am-12pm or by appo
 intment. PICK UP LOCATION: 12331 NC 42 Fuquay Varina\, NC 275
 26
URL:https://www.johnsonproperties.com/auctions/detail/bw111670
SEQUENCE:1
END:VEVENT
END:VCALENDAR