BEGIN:VCALENDAR
VERSION:2.0
PRODID:-//ExpressionEngine Easy iCalendar plugin//NONSGML v2.0.1//EN
X-WR-TIMEZONE:America/New_York
X-WR-CALNAME:Upcoming Auctions
BEGIN:VEVENT
UID:110279
DTSTAMP:20231127T090000
DTSTART:20231127T090000
DTEND:20231127T100000
SUMMARY:Personal Property Relocation Auction
LOCATION:6124 Spicewood Drive\, Fuquay Varina\, NC 27592\, US
DESCRIPTION:This is early notice of a personal property auction from Fuq
 uay Varina being sold in an online only event. This auction 
 will consist of many great items including tons of crafting 
 and scrap booking supplies\, fine dining furniture\, decoratio
 ns for almost every season\, outdoor power equipment and much
  more! Don’t miss your chance to take these items home to 
 enjoy.Be sure to check back as we will be adding more items!
  Pick up date/time: Tuesday November 28th 12pm-3pm Location:
  6124 Spicewood Dr Fuquay Varina\, NC 27526
URL:https://www.johnsonproperties.com/auctions/detail/bw110279
SEQUENCE:1
END:VEVENT
END:VCALENDAR