BEGIN:VCALENDAR
VERSION:2.0
PRODID:-//ExpressionEngine Easy iCalendar plugin//NONSGML v2.0.1//EN
X-WR-TIMEZONE:America/New_York
X-WR-CALNAME:Upcoming Auctions
BEGIN:VEVENT
UID:109485
DTSTAMP:20231106T090000
DTSTART:20231106T090000
DTEND:20231106T100000
SUMMARY:Personal Property of Cynthia Powell
LOCATION:914 Mulberry Rd\, Clayton\, NC 27520\, US
DESCRIPTION:Team JP has been called to assist Ms. Cynthia Powell with he
 r personal property.  This online only auction will include
  furniture\, storage racks\, printers\, small kitchen applianc
 es and SO much more!  You don't want to miss out on these a
 wesome items. PICK UP DATE/TIME: Tuesday November 7th 2-5pm 
 PICK UP LOCATION: 914 Mulberry Rd Clayton\, NC 27520
URL:https://www.johnsonproperties.com/auctions/detail/bw109485
SEQUENCE:1
END:VEVENT
END:VCALENDAR