BEGIN:VCALENDAR
VERSION:2.0
PRODID:-//ExpressionEngine Easy iCalendar plugin//NONSGML v2.0.1//EN
X-WR-TIMEZONE:America/New_York
X-WR-CALNAME:Upcoming Auctions
BEGIN:VEVENT
UID:108270
DTSTAMP:20231023T090000
DTSTART:20231023T090000
DTEND:20231023T100000
SUMMARY:Multi-Consignor Auction!
LOCATION:48 Progressive Parkway \, Angier\, NC 27501\, US
DESCRIPTION:Our multi-consignor auction is a fun one!  It has a large a
 mount of collectible Barbies\, talk about a blast from the pa
 st\, Snow Buddies in great condition\, collectible cars and tr
 ucks\, beautiful framed pictures (some limited edition)\, Chri
 stmas items and amazing handcrafted knives you can't get any
 where else!   Pick up Date & Time: October 24th 10am-1pm Pi
 ck up location: 48 Progressive Parkway Angier\, NC 27501
URL:https://www.johnsonproperties.com/auctions/detail/bw108270
SEQUENCE:1
END:VEVENT
END:VCALENDAR